{
 "currentVersion": 10.91,
 "serviceDescription": "Aerial orthophotos from April 2017. 4-band. 6-inch ground resolution.",
 "name": "Aerials_April2017",
 "description": "Aerial orthophotos from April 2017. 4-band. 6-inch ground resolution.",
 "extent": {
  "xmin": 32420,
  "ymin": 464480,
  "xmax": 168310,
  "ymax": 633070,
  "spatialReference": {
   "wkid": 103404,
   "latestWkid": 8213
  }
 },
 "initialExtent": {
  "xmin": 32420,
  "ymin": 464480,
  "xmax": 168310,
  "ymax": 633070,
  "spatialReference": {
   "wkid": 103404,
   "latestWkid": 8213
  }
 },
 "fullExtent": {
  "xmin": 32420,
  "ymin": 464480,
  "xmax": 168310,
  "ymax": 633070,
  "spatialReference": {
   "wkid": 103404,
   "latestWkid": 8213
  }
 },
 "pixelSizeX": 0.5,
 "pixelSizeY": 0.5,
 "bandCount": 4,
 "pixelType": "U8",
 "minPixelSize": 0.20833333333333334,
 "maxPixelSize": 330,
 "copyrightText": "Brown County WI",
 "serviceDataType": "esriImageServiceDataTypeGeneric",
 "minValues": [
  2,
  6,
  8,
  1
 ],
 "maxValues": [
  254,
  253,
  254,
  254
 ],
 "meanValues": [
  102.13915762302823,
  100.52093138786313,
  87.23654849761924,
  153.92747763204275
 ],
 "stdvValues": [
  36.622309050865596,
  28.4314173459361,
  24.26698031365982,
  46.88241694104284
 ],
 "objectIdField": "OBJECTID",
 "fields": [
  {
   "name": "OBJECTID",
   "type": "esriFieldTypeOID",
   "alias": "OBJECTID",
   "domain": null
  },
  {
   "name": "Shape",
   "type": "esriFieldTypeGeometry",
   "alias": "Shape",
   "domain": null
  },
  {
   "name": "Name",
   "type": "esriFieldTypeString",
   "alias": "Name",
   "domain": null,
   "length": 200
  },
  {
   "name": "MinPS",
   "type": "esriFieldTypeDouble",
   "alias": "MinPS",
   "domain": null
  },
  {
   "name": "MaxPS",
   "type": "esriFieldTypeDouble",
   "alias": "MaxPS",
   "domain": null
  },
  {
   "name": "LowPS",
   "type": "esriFieldTypeDouble",
   "alias": "LowPS",
   "domain": null
  },
  {
   "name": "HighPS",
   "type": "esriFieldTypeDouble",
   "alias": "HighPS",
   "domain": null
  },
  {
   "name": "Category",
   "type": "esriFieldTypeInteger",
   "alias": "Category",
   "domain": {
    "type": "codedValue",
    "name": "MosaicCatalogItemCategoryDomain",
    "description": "Catalog item categories.",
    "codedValues": [
     {
      "name": "Unknown",
      "code": 0
     },
     {
      "name": "Primary",
      "code": 1
     },
     {
      "name": "Overview",
      "code": 2
     },
     {
      "name": "Unprocessed Overview",
      "code": 3
     },
     {
      "name": "Partial Overview",
      "code": 4
     },
     {
      "name": "Inactive",
      "code": 5
     },
     {
      "name": "Uploaded",
      "code": 253
     },
     {
      "name": "Incomplete",
      "code": 254
     },
     {
      "name": "Custom",
      "code": 255
     }
    ],
    "mergePolicy": "esriMPTDefaultValue",
    "splitPolicy": "esriSPTDefaultValue"
   }
  },
  {
   "name": "Tag",
   "type": "esriFieldTypeString",
   "alias": "Tag",
   "domain": null,
   "length": 100
  },
  {
   "name": "GroupName",
   "type": "esriFieldTypeString",
   "alias": "GroupName",
   "domain": null,
   "length": 100
  },
  {
   "name": "ProductName",
   "type": "esriFieldTypeString",
   "alias": "ProductName",
   "domain": null,
   "length": 100
  },
  {
   "name": "CenterX",
   "type": "esriFieldTypeDouble",
   "alias": "CenterX",
   "domain": null
  },
  {
   "name": "CenterY",
   "type": "esriFieldTypeDouble",
   "alias": "CenterY",
   "domain": null
  },
  {
   "name": "ZOrder",
   "type": "esriFieldTypeInteger",
   "alias": "ZOrder",
   "domain": null
  },
  {
   "name": "Shape_Length",
   "type": "esriFieldTypeDouble",
   "alias": "Shape_Length",
   "domain": null
  },
  {
   "name": "Shape_Area",
   "type": "esriFieldTypeDouble",
   "alias": "Shape_Area",
   "domain": null
  },
  {
   "name": "Thumbnail",
   "type": "esriFieldTypeBlob",
   "alias": "Thumbnail",
   "domain": null
  }
 ],
 "capabilities": "Catalog,Download,Image,Mensuration,Metadata",
 "defaultMosaicMethod": "Northwest",
 "allowedMosaicMethods": "NorthWest,Center,LockRaster,ByAttribute,Nadir,Viewpoint,Seamline,None",
 "sortField": "",
 "sortValue": null,
 "sortAscending": true,
 "mosaicOperator": "First",
 "maxDownloadSizeLimit": 2048,
 "defaultCompressionQuality": 75,
 "defaultResamplingMethod": "Bilinear",
 "maxImageHeight": 4100,
 "maxImageWidth": 15000,
 "maxRecordCount": 1000,
 "maxDownloadImageCount": 20,
 "maxMosaicImageCount": 100,
 "singleFusedMapCache": true,
 "tileInfo": {
  "rows": 256,
  "cols": 256,
  "dpi": 96,
  "format": "JPEG",
  "compressionQuality": 75,
  "origin": {
   "x": -18345200,
   "y": 17204900
  },
  "spatialReference": {
   "wkid": 103404,
   "latestWkid": 8213
  },
  "lods": [
   {
    "level": 0,
    "resolution": 330,
    "scale": 380160
   },
   {
    "level": 1,
    "resolution": 275,
    "scale": 316800
   },
   {
    "level": 2,
    "resolution": 220,
    "scale": 253440
   },
   {
    "level": 3,
    "resolution": 192.5,
    "scale": 221760
   },
   {
    "level": 4,
    "resolution": 165,
    "scale": 190080
   },
   {
    "level": 5,
    "resolution": 137.5,
    "scale": 158400
   },
   {
    "level": 6,
    "resolution": 110,
    "scale": 126720
   },
   {
    "level": 7,
    "resolution": 82.5,
    "scale": 95040
   },
   {
    "level": 8,
    "resolution": 55,
    "scale": 63360
   },
   {
    "level": 9,
    "resolution": 41.25,
    "scale": 47520
   },
   {
    "level": 10,
    "resolution": 27.5,
    "scale": 31680
   },
   {
    "level": 11,
    "resolution": 20.833333333333332,
    "scale": 24000
   },
   {
    "level": 12,
    "resolution": 13.75,
    "scale": 15840
   },
   {
    "level": 13,
    "resolution": 10.416666666666666,
    "scale": 12000
   },
   {
    "level": 14,
    "resolution": 8.333333333333332,
    "scale": 9600
   },
   {
    "level": 15,
    "resolution": 6.25,
    "scale": 7200
   },
   {
    "level": 16,
    "resolution": 5.208333333333333,
    "scale": 6000
   },
   {
    "level": 17,
    "resolution": 4.166666666666666,
    "scale": 4800
   },
   {
    "level": 18,
    "resolution": 3.125,
    "scale": 3600
   },
   {
    "level": 19,
    "resolution": 2.083333333333333,
    "scale": 2400
   },
   {
    "level": 20,
    "resolution": 1.5625,
    "scale": 1800
   },
   {
    "level": 21,
    "resolution": 1.0416666666666665,
    "scale": 1200
   },
   {
    "level": 22,
    "resolution": 0.625,
    "scale": 720
   },
   {
    "level": 23,
    "resolution": 0.41666666666666663,
    "scale": 480
   },
   {
    "level": 24,
    "resolution": 0.20833333333333331,
    "scale": 240
   }
  ]
 },
 "cacheType": "Map",
 "allowRasterFunction": true,
 "rasterFunctionInfos": [
  {
   "name": "None",
   "description": "A No-Op Function.",
   "help": ""
  }
 ],
 "rasterTypeInfos": [
  {
   "name": "Raster Dataset",
   "description": "Supports all ArcGIS Raster Datasets",
   "help": ""
  }
 ],
 "mensurationCapabilities": "Basic",
 "hasHistograms": true,
 "hasColormap": false,
 "hasRasterAttributeTable": false,
 "minScale": 380160,
 "maxScale": 240,
 "exportTilesAllowed": true,
 "maxExportTilesCount": 100000,
 "hasMultidimensions": false,
 "supportsStatistics": true,
 "supportsAdvancedQueries": true,
 "editFieldsInfo": null,
 "ownershipBasedAccessControlForRasters": null,
 "allowComputeTiePoints": false,
 "useStandardizedQueries": true,
 "advancedQueryCapabilities": {
  "useStandardizedQueries": true,
  "supportsStatistics": true,
  "supportsOrderBy": true,
  "supportsDistinct": true,
  "supportsPagination": true
 },
 "spatialReference": {
  "wkid": 103404,
  "latestWkid": 8213
 }
}
