{
"currentVersion": 10.71,
"serviceDescription": "1900 plat map of Brown County. Georeferenced using GIS tools. W.W. Hixson & Co. Map of Brown County, Wisconsin. Rockford, Ill.: W.W. Hixson, 1900. Map. Retrieved from the Library of Congress, .",
"name": "Archives/BrownCo_1900_PlatMap",
"description": "1900 plat map of Brown County. Georeferenced using GIS tools. W.W. Hixson & Co. Map of Brown County, Wisconsin. Rockford, Ill.: W.W. Hixson, 1900. Map. Retrieved from the Library of Congress, .",
"extent": {
"xmin": 34420.96734414407,
"ymin": 462276.06420448667,
"xmax": 169230.58690424217,
"ymax": 631094.9215881153,
"spatialReference": {
"wkid": 103404,
"latestWkid": 8213
}
},
"initialExtent": {
"xmin": 34420.96734414407,
"ymin": 462276.06420448667,
"xmax": 169230.58690424217,
"ymax": 631094.9215881153,
"spatialReference": {
"wkid": 103404,
"latestWkid": 8213
}
},
"fullExtent": {
"xmin": 34420.96734414407,
"ymin": 462276.06420448667,
"xmax": 169230.58690424217,
"ymax": 631094.9215881153,
"spatialReference": {
"wkid": 103404,
"latestWkid": 8213
}
},
"pixelSizeX": 11.942737381298556,
"pixelSizeY": 11.96448315971854,
"bandCount": 3,
"pixelType": "U8",
"minPixelSize": 0,
"maxPixelSize": 0,
"copyrightText": "W.W. Hixson, 1900. Retrieved from the Library of Congress, .",
"serviceDataType": "esriImageServiceDataTypeRGB",
"minValues": [
0,
0,
0
],
"maxValues": [
255,
255,
253
],
"meanValues": [
189.73212053618,
168.5783532094,
136.10541752407
],
"stdvValues": [
51.284455810699,
46.242896695629,
37.805942238849
],
"objectIdField": "",
"fields": [],
"capabilities": "Image,Metadata,Mensuration",
"defaultMosaicMethod": "Center",
"allowedMosaicMethods": "",
"sortField": "",
"sortValue": null,
"mosaicOperator": "First",
"defaultCompressionQuality": 75,
"defaultResamplingMethod": "Bilinear",
"maxImageHeight": 4100,
"maxImageWidth": 15000,
"allowRasterFunction": true,
"rasterFunctionInfos": [
{
"name": "None",
"description": "",
"help": ""
}
],
"rasterTypeInfos": [
{
"name": "Raster Dataset",
"description": "Supports all ArcGIS Raster Datasets",
"help": ""
}
],
"mensurationCapabilities": "Basic",
"hasHistograms": true,
"hasColormap": false,
"hasRasterAttributeTable": false,
"minScale": 0,
"maxScale": 0,
"exportTilesAllowed": false,
"hasMultidimensions": false,
"supportsStatistics": false,
"supportsAdvancedQueries": false,
"editFieldsInfo": null,
"ownershipBasedAccessControlForRasters": null,
"allowComputeTiePoints": false,
"useStandardizedQueries": true,
"advancedQueryCapabilities": {
"useStandardizedQueries": true,
"supportsStatistics": false,
"supportsOrderBy": false,
"supportsDistinct": false,
"supportsPagination": false
},
"spatialReference": {
"wkid": 103404,
"latestWkid": 8213
}
}