{
 "currentVersion": 10.71,
 "serviceDescription": "DSM (Digital Surface Model) Hillshade Effect. Source is the Spring 2020 LiDAR (QL1)",
 "name": "DSM2020/DSM2020_Hillshade",
 "description": "DSM (Digital Surface Model) Hillshade Effect. Source is the Spring 2020 LiDAR (QL1)",
 "extent": {
  "xmin": 32892.495378951506,
  "ymin": 465494.08120898344,
  "xmax": 167892.49537895128,
  "ymax": 631994.0812089832,
  "spatialReference": {
   "wkt": "PROJCS[\"NAD_1983_2011_WISCRS_Brown_ftUS\",GEOGCS[\"GCS_NAD83_2011\",DATUM[\"D_NAD83_National_Spatial_Reference_System_2011\",SPHEROID[\"GRS_1980\",6378137.0,298.257222101]],PRIMEM[\"Greenwich\",0.0],UNIT[\"Degree\",0.0174532925199433]],PROJECTION[\"Transverse_Mercator\"],PARAMETER[\"false_easting\",103674.333],PARAMETER[\"false_northing\",15091.833],PARAMETER[\"central_meridian\",-88.0],PARAMETER[\"scale_factor\",1.00002],PARAMETER[\"latitude_of_origin\",43.0],UNIT[\"Foot_US\",0.3048006096012192]],VERTCS[\"NAVD88 height (ftUS) - Geoid18 (ftUS)\",VDATUM[\"North American Vertical Datum 1988\"],PARAMETER[\"Vertical_Shift\",0.0],PARAMETER[\"Direction\",1.0],UNIT[\"US survey foot\",0.3048006096012192]]"
  }
 },
 "initialExtent": {
  "xmin": 32892.495378951506,
  "ymin": 465494.08120898344,
  "xmax": 167892.49537895128,
  "ymax": 631994.0812089832,
  "spatialReference": {
   "wkt": "PROJCS[\"NAD_1983_2011_WISCRS_Brown_ftUS\",GEOGCS[\"GCS_NAD83_2011\",DATUM[\"D_NAD83_National_Spatial_Reference_System_2011\",SPHEROID[\"GRS_1980\",6378137.0,298.257222101]],PRIMEM[\"Greenwich\",0.0],UNIT[\"Degree\",0.0174532925199433]],PROJECTION[\"Transverse_Mercator\"],PARAMETER[\"false_easting\",103674.333],PARAMETER[\"false_northing\",15091.833],PARAMETER[\"central_meridian\",-88.0],PARAMETER[\"scale_factor\",1.00002],PARAMETER[\"latitude_of_origin\",43.0],UNIT[\"Foot_US\",0.3048006096012192]],VERTCS[\"NAVD88 height (ftUS) - Geoid18 (ftUS)\",VDATUM[\"North American Vertical Datum 1988\"],PARAMETER[\"Vertical_Shift\",0.0],PARAMETER[\"Direction\",1.0],UNIT[\"US survey foot\",0.3048006096012192]]"
  }
 },
 "fullExtent": {
  "xmin": 32892.495378951506,
  "ymin": 465494.08120898344,
  "xmax": 167892.49537895128,
  "ymax": 631994.0812089832,
  "spatialReference": {
   "wkt": "PROJCS[\"NAD_1983_2011_WISCRS_Brown_ftUS\",GEOGCS[\"GCS_NAD83_2011\",DATUM[\"D_NAD83_National_Spatial_Reference_System_2011\",SPHEROID[\"GRS_1980\",6378137.0,298.257222101]],PRIMEM[\"Greenwich\",0.0],UNIT[\"Degree\",0.0174532925199433]],PROJECTION[\"Transverse_Mercator\"],PARAMETER[\"false_easting\",103674.333],PARAMETER[\"false_northing\",15091.833],PARAMETER[\"central_meridian\",-88.0],PARAMETER[\"scale_factor\",1.00002],PARAMETER[\"latitude_of_origin\",43.0],UNIT[\"Foot_US\",0.3048006096012192]],VERTCS[\"NAVD88 height (ftUS) - Geoid18 (ftUS)\",VDATUM[\"North American Vertical Datum 1988\"],PARAMETER[\"Vertical_Shift\",0.0],PARAMETER[\"Direction\",1.0],UNIT[\"US survey foot\",0.3048006096012192]]"
  }
 },
 "heightModelInfo": {
  "heightModel": "gravity_related_height",
  "vertCRS": "NAVD88 height (ftUS) - Geoid18 (ftUS)",
  "heightUnit": "us-foot"
 },
 "pixelSizeX": 0.9999999999999982,
 "pixelSizeY": 0.9999999999999986,
 "bandCount": 1,
 "pixelType": "U8",
 "minPixelSize": 0,
 "maxPixelSize": 0,
 "copyrightText": "Brown County, USGS, FEMA",
 "serviceDataType": "esriImageServiceDataTypeGeneric",
 "minValues": [
  0
 ],
 "maxValues": [
  254
 ],
 "meanValues": [
  176.62099853440137
 ],
 "stdvValues": [
  23.66096074278448
 ],
 "objectIdField": "",
 "fields": [],
 "capabilities": "Image,Metadata,Mensuration",
 "defaultMosaicMethod": "Center",
 "allowedMosaicMethods": "",
 "sortField": "",
 "sortValue": null,
 "mosaicOperator": "First",
 "defaultCompressionQuality": 75,
 "defaultResamplingMethod": "Bilinear",
 "maxImageHeight": 4100,
 "maxImageWidth": 15000,
 "allowRasterFunction": true,
 "rasterFunctionInfos": [
  {
   "name": "None",
   "description": "",
   "help": ""
  }
 ],
 "rasterTypeInfos": [
  {
   "name": "Raster Dataset",
   "description": "Supports all ArcGIS Raster Datasets",
   "help": ""
  }
 ],
 "mensurationCapabilities": "Basic",
 "hasHistograms": true,
 "hasColormap": false,
 "hasRasterAttributeTable": true,
 "minScale": 0,
 "maxScale": 0,
 "exportTilesAllowed": false,
 "hasMultidimensions": false,
 "supportsStatistics": false,
 "supportsAdvancedQueries": false,
 "editFieldsInfo": null,
 "ownershipBasedAccessControlForRasters": null,
 "allowComputeTiePoints": false,
 "useStandardizedQueries": true,
 "advancedQueryCapabilities": {
  "useStandardizedQueries": true,
  "supportsStatistics": false,
  "supportsOrderBy": false,
  "supportsDistinct": false,
  "supportsPagination": false
 },
 "spatialReference": {
  "wkt": "PROJCS[\"NAD_1983_2011_WISCRS_Brown_ftUS\",GEOGCS[\"GCS_NAD83_2011\",DATUM[\"D_NAD83_National_Spatial_Reference_System_2011\",SPHEROID[\"GRS_1980\",6378137.0,298.257222101]],PRIMEM[\"Greenwich\",0.0],UNIT[\"Degree\",0.0174532925199433]],PROJECTION[\"Transverse_Mercator\"],PARAMETER[\"false_easting\",103674.333],PARAMETER[\"false_northing\",15091.833],PARAMETER[\"central_meridian\",-88.0],PARAMETER[\"scale_factor\",1.00002],PARAMETER[\"latitude_of_origin\",43.0],UNIT[\"Foot_US\",0.3048006096012192]],VERTCS[\"NAVD88 height (ftUS) - Geoid18 (ftUS)\",VDATUM[\"North American Vertical Datum 1988\"],PARAMETER[\"Vertical_Shift\",0.0],PARAMETER[\"Direction\",1.0],UNIT[\"US survey foot\",0.3048006096012192]]"
 }
}
