{
 "currentVersion": 10.71,
 "serviceDescription": "OneMap L2 Land Cover derived from 2020 4 Band (R, G, B, NIR) NAIP. The majority of the images were acquired during July and August and supplemented with lidar collections for Brown County (2020). This is a preliminary dataset delivered in May 2024.",
 "name": "Preliminary/OneMap_L2_LandCover",
 "description": "OneMap L2 Land Cover derived from 2020 4 Band (R, G, B, NIR) NAIP. The majority of the images were acquired during July and August and supplemented with lidar collections for Brown County (2020). This is a preliminary dataset delivered in May 2024.",
 "extent": {
  "xmin": 598193,
  "ymin": 2385641,
  "xmax": 650123,
  "ymax": 2431238,
  "spatialReference": {
   "wkid": 5070,
   "latestWkid": 5070
  }
 },
 "initialExtent": {
  "xmin": 598193,
  "ymin": 2385641,
  "xmax": 650123,
  "ymax": 2431238,
  "spatialReference": {
   "wkid": 5070,
   "latestWkid": 5070
  }
 },
 "fullExtent": {
  "xmin": 598193,
  "ymin": 2385641,
  "xmax": 650123,
  "ymax": 2431238,
  "spatialReference": {
   "wkid": 5070,
   "latestWkid": 5070
  }
 },
 "pixelSizeX": 1,
 "pixelSizeY": 1,
 "bandCount": 1,
 "pixelType": "U8",
 "minPixelSize": 0,
 "maxPixelSize": 0,
 "copyrightText": "NOAA, NV5, WI Coastal Management, Brown County",
 "serviceDataType": "esriImageServiceDataTypeThematic",
 "minValues": [
  2
 ],
 "maxValues": [
  22
 ],
 "meanValues": [
  8.309932335395
 ],
 "stdvValues": [
  4.8774284622219
 ],
 "objectIdField": "",
 "fields": [],
 "capabilities": "Image,Metadata,Mensuration",
 "defaultMosaicMethod": "Center",
 "allowedMosaicMethods": "",
 "sortField": "",
 "sortValue": null,
 "mosaicOperator": "First",
 "defaultCompressionQuality": 75,
 "defaultResamplingMethod": "Nearest",
 "maxImageHeight": 4100,
 "maxImageWidth": 15000,
 "allowRasterFunction": true,
 "rasterFunctionInfos": [
  {
   "name": "None",
   "description": "",
   "help": ""
  }
 ],
 "rasterTypeInfos": [
  {
   "name": "Raster Dataset",
   "description": "Supports all ArcGIS Raster Datasets",
   "help": ""
  }
 ],
 "mensurationCapabilities": "Basic",
 "hasHistograms": true,
 "hasColormap": true,
 "hasRasterAttributeTable": false,
 "minScale": 0,
 "maxScale": 0,
 "exportTilesAllowed": false,
 "hasMultidimensions": false,
 "supportsStatistics": false,
 "supportsAdvancedQueries": false,
 "editFieldsInfo": null,
 "ownershipBasedAccessControlForRasters": null,
 "allowComputeTiePoints": false,
 "useStandardizedQueries": true,
 "advancedQueryCapabilities": {
  "useStandardizedQueries": true,
  "supportsStatistics": false,
  "supportsOrderBy": false,
  "supportsDistinct": false,
  "supportsPagination": false
 },
 "spatialReference": {
  "wkid": 5070,
  "latestWkid": 5070
 }
}
