{
 "currentVersion": 10.91,
 "serviceDescription": "USGS topographic quadrangle maps (1:24,000)",
 "name": "USGS_Quads",
 "description": "USGS topographic quadrangle maps (1:24,000)",
 "extent": {
  "xmin": 3622.7505245980997,
  "ymin": 419283.5087145037,
  "xmax": 171401.87352941488,
  "ymax": 655673.5378499909,
  "spatialReference": {
   "wkt": "PROJCS[\"Brown_County_WI\",GEOGCS[\"GCS_North_American_1983_HARN\",DATUM[\"D_North_American_1983_HARN\",SPHEROID[\"GRS_1980\",6378137.0,298.257222101]],PRIMEM[\"Greenwich\",0.0],UNIT[\"Degree\",0.0174532925199433]],PROJECTION[\"Transverse_Mercator\"],PARAMETER[\"false_easting\",103674.3333],PARAMETER[\"false_northing\",15091.8333],PARAMETER[\"central_meridian\",-88.0],PARAMETER[\"scale_factor\",1.00002],PARAMETER[\"latitude_of_origin\",43.0],UNIT[\"Foot_US\",0.3048006096012192]]"
  }
 },
 "initialExtent": {
  "xmin": 3622.7505245980997,
  "ymin": 419283.5087145037,
  "xmax": 171401.87352941488,
  "ymax": 655673.5378499909,
  "spatialReference": {
   "wkt": "PROJCS[\"Brown_County_WI\",GEOGCS[\"GCS_North_American_1983_HARN\",DATUM[\"D_North_American_1983_HARN\",SPHEROID[\"GRS_1980\",6378137.0,298.257222101]],PRIMEM[\"Greenwich\",0.0],UNIT[\"Degree\",0.0174532925199433]],PROJECTION[\"Transverse_Mercator\"],PARAMETER[\"false_easting\",103674.3333],PARAMETER[\"false_northing\",15091.8333],PARAMETER[\"central_meridian\",-88.0],PARAMETER[\"scale_factor\",1.00002],PARAMETER[\"latitude_of_origin\",43.0],UNIT[\"Foot_US\",0.3048006096012192]]"
  }
 },
 "fullExtent": {
  "xmin": 3622.7505245980997,
  "ymin": 419283.5087145037,
  "xmax": 171401.87352941488,
  "ymax": 655673.5378499909,
  "spatialReference": {
   "wkt": "PROJCS[\"Brown_County_WI\",GEOGCS[\"GCS_North_American_1983_HARN\",DATUM[\"D_North_American_1983_HARN\",SPHEROID[\"GRS_1980\",6378137.0,298.257222101]],PRIMEM[\"Greenwich\",0.0],UNIT[\"Degree\",0.0174532925199433]],PROJECTION[\"Transverse_Mercator\"],PARAMETER[\"false_easting\",103674.3333],PARAMETER[\"false_northing\",15091.8333],PARAMETER[\"central_meridian\",-88.0],PARAMETER[\"scale_factor\",1.00002],PARAMETER[\"latitude_of_origin\",43.0],UNIT[\"Foot_US\",0.3048006096012192]]"
  }
 },
 "pixelSizeX": 8.2923502696,
 "pixelSizeY": 8.292350269599998,
 "bandCount": 3,
 "pixelType": "U8",
 "minPixelSize": 0,
 "maxPixelSize": 0,
 "copyrightText": "USGS",
 "serviceDataType": "esriImageServiceDataTypeRGB",
 "minValues": [],
 "maxValues": [],
 "meanValues": [],
 "stdvValues": [],
 "objectIdField": "",
 "fields": [],
 "capabilities": "Image,Metadata,Mensuration",
 "defaultMosaicMethod": "Center",
 "allowedMosaicMethods": "",
 "sortField": "",
 "sortValue": null,
 "sortAscending": true,
 "mosaicOperator": "First",
 "defaultCompressionQuality": 75,
 "defaultResamplingMethod": "Bilinear",
 "maxImageHeight": 4100,
 "maxImageWidth": 15000,
 "allowRasterFunction": true,
 "rasterFunctionInfos": [
  {
   "name": "None",
   "description": "",
   "help": ""
  }
 ],
 "rasterTypeInfos": [
  {
   "name": "Raster Dataset",
   "description": "Supports all ArcGIS Raster Datasets",
   "help": ""
  }
 ],
 "mensurationCapabilities": "Basic",
 "hasHistograms": false,
 "hasColormap": false,
 "hasRasterAttributeTable": false,
 "minScale": 0,
 "maxScale": 0,
 "exportTilesAllowed": false,
 "hasMultidimensions": false,
 "supportsStatistics": false,
 "supportsAdvancedQueries": false,
 "editFieldsInfo": null,
 "ownershipBasedAccessControlForRasters": null,
 "allowComputeTiePoints": false,
 "useStandardizedQueries": true,
 "advancedQueryCapabilities": {
  "useStandardizedQueries": true,
  "supportsStatistics": false,
  "supportsOrderBy": false,
  "supportsDistinct": false,
  "supportsPagination": false
 },
 "spatialReference": {
  "wkt": "PROJCS[\"Brown_County_WI\",GEOGCS[\"GCS_North_American_1983_HARN\",DATUM[\"D_North_American_1983_HARN\",SPHEROID[\"GRS_1980\",6378137.0,298.257222101]],PRIMEM[\"Greenwich\",0.0],UNIT[\"Degree\",0.0174532925199433]],PROJECTION[\"Transverse_Mercator\"],PARAMETER[\"false_easting\",103674.3333],PARAMETER[\"false_northing\",15091.8333],PARAMETER[\"central_meridian\",-88.0],PARAMETER[\"scale_factor\",1.00002],PARAMETER[\"latitude_of_origin\",43.0],UNIT[\"Foot_US\",0.3048006096012192]]"
 }
}
