{
 "currentVersion": 10.91,
 "serviceDescription": "DEM (Digital Elevation Model) derived from the April 2010 LiDAR project. 5-foot ground resolution. Elevation values reference mean sea level, NAVD88 datum. ",
 "name": "dem2010",
 "description": "DEM (Digital Elevation Model) derived from the April 2010 LiDAR project. 5-foot ground resolution. Elevation values reference mean sea level, NAVD88 datum. ",
 "extent": {
  "xmin": 37083.500118255615,
  "ymin": 467242.81296367943,
  "xmax": 165508.50011825562,
  "ymax": 628312.8129636794,
  "spatialReference": {
   "wkt": "PROJCS[\"NAD_1983_HARN_Transverse_Mercator\",GEOGCS[\"GCS_North_American_1983_HARN\",DATUM[\"D_North_American_1983_HARN\",SPHEROID[\"GRS_1980\",6378137.0,298.257222101]],PRIMEM[\"Greenwich\",0.0],UNIT[\"Degree\",0.0174532925199433]],PROJECTION[\"Transverse_Mercator\"],PARAMETER[\"False_Easting\",103674.333],PARAMETER[\"False_Northing\",15091.833],PARAMETER[\"Central_Meridian\",-88.0],PARAMETER[\"Scale_Factor\",1.00002],PARAMETER[\"Latitude_Of_Origin\",43.0],UNIT[\"Foot_US\",0.3048006096012192]],VERTCS[\"NAVD_1988\",VDATUM[\"North_American_Vertical_Datum_1988\"],PARAMETER[\"Vertical_Shift\",0.0],PARAMETER[\"Direction\",1.0],UNIT[\"Foot_US\",0.3048006096012192]]"
  }
 },
 "initialExtent": {
  "xmin": 37083.500118255615,
  "ymin": 467242.81296367943,
  "xmax": 165508.50011825562,
  "ymax": 628312.8129636794,
  "spatialReference": {
   "wkt": "PROJCS[\"NAD_1983_HARN_Transverse_Mercator\",GEOGCS[\"GCS_North_American_1983_HARN\",DATUM[\"D_North_American_1983_HARN\",SPHEROID[\"GRS_1980\",6378137.0,298.257222101]],PRIMEM[\"Greenwich\",0.0],UNIT[\"Degree\",0.0174532925199433]],PROJECTION[\"Transverse_Mercator\"],PARAMETER[\"False_Easting\",103674.333],PARAMETER[\"False_Northing\",15091.833],PARAMETER[\"Central_Meridian\",-88.0],PARAMETER[\"Scale_Factor\",1.00002],PARAMETER[\"Latitude_Of_Origin\",43.0],UNIT[\"Foot_US\",0.3048006096012192]],VERTCS[\"NAVD_1988\",VDATUM[\"North_American_Vertical_Datum_1988\"],PARAMETER[\"Vertical_Shift\",0.0],PARAMETER[\"Direction\",1.0],UNIT[\"Foot_US\",0.3048006096012192]]"
  }
 },
 "fullExtent": {
  "xmin": 37083.500118255615,
  "ymin": 467242.81296367943,
  "xmax": 165508.50011825562,
  "ymax": 628312.8129636794,
  "spatialReference": {
   "wkt": "PROJCS[\"NAD_1983_HARN_Transverse_Mercator\",GEOGCS[\"GCS_North_American_1983_HARN\",DATUM[\"D_North_American_1983_HARN\",SPHEROID[\"GRS_1980\",6378137.0,298.257222101]],PRIMEM[\"Greenwich\",0.0],UNIT[\"Degree\",0.0174532925199433]],PROJECTION[\"Transverse_Mercator\"],PARAMETER[\"False_Easting\",103674.333],PARAMETER[\"False_Northing\",15091.833],PARAMETER[\"Central_Meridian\",-88.0],PARAMETER[\"Scale_Factor\",1.00002],PARAMETER[\"Latitude_Of_Origin\",43.0],UNIT[\"Foot_US\",0.3048006096012192]],VERTCS[\"NAVD_1988\",VDATUM[\"North_American_Vertical_Datum_1988\"],PARAMETER[\"Vertical_Shift\",0.0],PARAMETER[\"Direction\",1.0],UNIT[\"Foot_US\",0.3048006096012192]]"
  }
 },
 "heightModelInfo": {
  "heightModel": "gravity_related_height",
  "vertCRS": "NAVD_1988",
  "heightUnit": "us-foot"
 },
 "pixelSizeX": 5,
 "pixelSizeY": 5,
 "bandCount": 1,
 "pixelType": "F32",
 "minPixelSize": 0,
 "maxPixelSize": 0,
 "copyrightText": "Brown County WI",
 "serviceDataType": "esriImageServiceDataTypeGeneric",
 "minValues": [
  548.5
 ],
 "maxValues": [
  1020.0076293945312
 ],
 "meanValues": [
  742.532211938333
 ],
 "stdvValues": [
  109.6222890063963
 ],
 "objectIdField": "",
 "fields": [],
 "capabilities": "Image,Metadata,Mensuration",
 "defaultMosaicMethod": "Center",
 "allowedMosaicMethods": "",
 "sortField": "",
 "sortValue": null,
 "sortAscending": true,
 "mosaicOperator": "First",
 "defaultCompressionQuality": 75,
 "defaultResamplingMethod": "Bilinear",
 "maxImageHeight": 4100,
 "maxImageWidth": 15000,
 "allowRasterFunction": true,
 "rasterFunctionInfos": [
  {
   "name": "None",
   "description": "",
   "help": ""
  }
 ],
 "rasterTypeInfos": [
  {
   "name": "Raster Dataset",
   "description": "Supports all ArcGIS Raster Datasets",
   "help": ""
  }
 ],
 "mensurationCapabilities": "Basic",
 "hasHistograms": false,
 "hasColormap": false,
 "hasRasterAttributeTable": false,
 "minScale": 0,
 "maxScale": 0,
 "exportTilesAllowed": false,
 "hasMultidimensions": false,
 "supportsStatistics": false,
 "supportsAdvancedQueries": false,
 "editFieldsInfo": null,
 "ownershipBasedAccessControlForRasters": null,
 "allowComputeTiePoints": false,
 "useStandardizedQueries": true,
 "advancedQueryCapabilities": {
  "useStandardizedQueries": true,
  "supportsStatistics": false,
  "supportsOrderBy": false,
  "supportsDistinct": false,
  "supportsPagination": false
 },
 "spatialReference": {
  "wkt": "PROJCS[\"NAD_1983_HARN_Transverse_Mercator\",GEOGCS[\"GCS_North_American_1983_HARN\",DATUM[\"D_North_American_1983_HARN\",SPHEROID[\"GRS_1980\",6378137.0,298.257222101]],PRIMEM[\"Greenwich\",0.0],UNIT[\"Degree\",0.0174532925199433]],PROJECTION[\"Transverse_Mercator\"],PARAMETER[\"False_Easting\",103674.333],PARAMETER[\"False_Northing\",15091.833],PARAMETER[\"Central_Meridian\",-88.0],PARAMETER[\"Scale_Factor\",1.00002],PARAMETER[\"Latitude_Of_Origin\",43.0],UNIT[\"Foot_US\",0.3048006096012192]],VERTCS[\"NAVD_1988\",VDATUM[\"North_American_Vertical_Datum_1988\"],PARAMETER[\"Vertical_Shift\",0.0],PARAMETER[\"Direction\",1.0],UNIT[\"Foot_US\",0.3048006096012192]]"
 }
}
