View In:
ArcGIS JavaScript
ArcGIS Online Map Viewer
ArcGIS Earth
ArcMap
View Footprint In:
ArcGIS Online Map Viewer
Service Description: Digital orthophotography created from scanned 1" = 1667' (1:20,000) scale photos from year 1960. Photos were scanned at 12.5 micron resolution, registered to common points on the April 2000 orthophotography, draped over a DTM (Digital Terrain Model) and rectified using bilinear resampling to produce a 1-foot ground resolution digital orthophoto. Ground resolution is 1 foot. Accuracy of the 1960 digital orthophotography is approximately 15-20 feet relative to the control (primarily the April 2000 orthophoto).
Name: Aerials_Summer1960
Description: Digital orthophotography created from scanned 1" = 1667' (1:20,000) scale photos from year 1960. Photos were scanned at 12.5 micron resolution, registered to common points on the April 2000 orthophotography, draped over a DTM (Digital Terrain Model) and rectified using bilinear resampling to produce a 1-foot ground resolution digital orthophoto. Ground resolution is 1 foot. Accuracy of the 1960 digital orthophotography is approximately 15-20 feet relative to the control (primarily the April 2000 orthophoto).
Single Fused Map Cache: true
Tile Info:
- Height: 256
- Width: 256
- DPI: 96
-
Levels of Detail: 25
- Format: JPEG
- Compression Quality: 75.0
- LERC Error: NaN
- Origin: X: -1.83452E7
Y: 1.72049E7
- Spatial Reference: 103404
(8213)
Extent:
XMin: 37941.50000000001
YMin: 466996.8
XMax: 165786.49999999997
YMax: 627591.7999999999
Spatial Reference: 103404
(8213)
Initial Extent:
XMin: 37941.50000000001
YMin: 466996.8
XMax: 165786.49999999997
YMax: 627591.7999999999
Spatial Reference: 103404
(8213)
Full Extent:
XMin: 37941.50000000001
YMin: 466996.8
XMax: 165786.49999999997
YMax: 627591.7999999999
Spatial Reference: 103404
(8213)
Pixel Size X: 0.9999999999999998
Pixel Size Y: 0.9999999999999997
Band Count: 1
Pixel Type: U8
RasterFunction Infos: {"rasterFunctionInfos": [{
"name": "None",
"description": "",
"help": ""
}]}
Mensuration Capabilities: None
Has Histograms: true
Has Colormap: false
Has Multi Dimensions : false
Rendering Rule:
Min Scale: 380160
Max Scale: 240
Copyright Text: Brown County
Service Data Type: esriImageServiceDataTypeGeneric
Min Values: 4
Max Values: 255
Mean Values: 134.06434051917034
Standard Deviation Values: 33.12975961916903
Object ID Field: OBJECTID
Fields:
-
OBJECTID
(
type: esriFieldTypeOID, alias: OBJECTID
)
-
Shape
(
type: esriFieldTypeGeometry, alias: Shape
)
-
Name
(
type: esriFieldTypeString, alias: Name, length: 200
)
-
MinPS
(
type: esriFieldTypeDouble, alias: MinPS
)
-
MaxPS
(
type: esriFieldTypeDouble, alias: MaxPS
)
-
LowPS
(
type: esriFieldTypeDouble, alias: LowPS
)
-
HighPS
(
type: esriFieldTypeDouble, alias: HighPS
)
-
Category
(
type: esriFieldTypeInteger, alias: Category
, Coded Values:
[0: Unknown]
, [1: Primary]
, [2: Overview]
, ...6 more...
)
-
Tag
(
type: esriFieldTypeString, alias: Tag, length: 100
)
-
GroupName
(
type: esriFieldTypeString, alias: GroupName, length: 100
)
-
ProductName
(
type: esriFieldTypeString, alias: ProductName, length: 100
)
-
CenterX
(
type: esriFieldTypeDouble, alias: CenterX
)
-
CenterY
(
type: esriFieldTypeDouble, alias: CenterY
)
-
ZOrder
(
type: esriFieldTypeInteger, alias: ZOrder
)
-
Shape_Length
(
type: esriFieldTypeDouble, alias: Shape_Length
)
-
Shape_Area
(
type: esriFieldTypeDouble, alias: Shape_Area
)
Default Mosaic Method: Northwest
Allowed Mosaic Methods: NorthWest,Center,LockRaster,ByAttribute,Nadir,Viewpoint,Seamline,None
SortField:
SortValue: null
Mosaic Operator: First
Default Compression Quality: 75
Default Resampling Method: Bilinear
Max Record Count: 1000
Max Image Height: 4100
Max Image Width: 15000
Max Download Image Count: 20
Max Mosaic Image Count: 20
Allow Raster Function: true
Allow Copy: null
Allow Analysis: null
Allow Compute TiePoints: false
Supports Statistics: true
Supports Advanced Queries: true
Use StandardizedQueries: true
Raster Type Infos:
Name: Raster Dataset
Description: Supports all ArcGIS Raster Datasets
Help:
Has Raster Attribute Table: false
Edit Fields Info: null
Ownership Based AccessControl For Rasters: null
Child Resources:
Info
Histograms
Key Properties
Legend
Raster Function Infos
Supported Operations:
Export Image
Query
Identify
Download Rasters
Compute Histograms
Compute Statistics Histograms
Get Samples
Compute Class Statistics
Query Boundary
Compute Pixel Location
Compute Angles
Validate
Project