View In:
ArcGIS JavaScript
ArcGIS Online Map Viewer
ArcGIS Earth
ArcMap
View Footprint In:
ArcGIS Online Map Viewer
Service Description: Brown County Wisconsin 1889 plat book. Scanned and georeferenced to modern GIS base map by the Brown County Land Information Office. The plat book maps were originally published in 1889 by Foote, C. M. 1849-1889 (Charles M.); Brown, Walter S. Based on date of publication, this material is presumed to be in the public domain. Original material owned by Brown County Library.
Name: Archives/BrownCountyWI_1889_PlatBook
Description: Brown County Wisconsin 1889 plat book. Scanned and georeferenced to modern GIS base map by the Brown County Land Information Office. The plat book maps were originally published in 1889 by Foote, C. M. 1849-1889 (Charles M.); Brown, Walter S. Based on date of publication, this material is presumed to be in the public domain. Original material owned by Brown County Library.
Single Fused Map Cache: false
Extent:
XMin: 39066.128541600956
YMin: 466025.63140441064
XMax: 167300.41776837164
YMax: 627331.4461926421
Spatial Reference: 103404
(8213)
Initial Extent:
XMin: 39066.128541600956
YMin: 466025.63140441064
XMax: 167300.41776837164
YMax: 627331.4461926421
Spatial Reference: 103404
(8213)
Full Extent:
XMin: 39066.128541600956
YMin: 466025.63140441064
XMax: 167300.41776837164
YMax: 627331.4461926421
Spatial Reference: 103404
(8213)
Pixel Size X: 1.0859857998049702
Pixel Size Y: 1.0859857998049702
Band Count: 3
Pixel Type: U8
RasterFunction Infos: {"rasterFunctionInfos": [{
"name": "None",
"description": "",
"help": ""
}]}
Mensuration Capabilities: None
Has Histograms: true
Has Colormap: false
Has Multi Dimensions : false
Rendering Rule:
Min Scale: 0
Max Scale: 0
Copyright Text: Foote, C. M. 1849-1889 (Charles M.); Brown, Walter S. / Plat book of Brown County, Wisconsin. Brown County Library
Service Data Type: esriImageServiceDataTypeRGB
Min Values: 0, 0, 0
Max Values: 255, 255, 252
Mean Values: 214.4082888140307, 202.3233223912414, 173.99780442976055
Standard Deviation Values: 35.21745558413425, 33.524098443391, 32.682796975707284
Object ID Field: OBJECTID
Fields:
-
OBJECTID
(
type: esriFieldTypeOID, alias: OBJECTID
)
-
Shape
(
type: esriFieldTypeGeometry, alias: Shape
)
-
Name
(
type: esriFieldTypeString, alias: Name, length: 200
)
-
MinPS
(
type: esriFieldTypeDouble, alias: MinPS
)
-
MaxPS
(
type: esriFieldTypeDouble, alias: MaxPS
)
-
LowPS
(
type: esriFieldTypeDouble, alias: LowPS
)
-
HighPS
(
type: esriFieldTypeDouble, alias: HighPS
)
-
Category
(
type: esriFieldTypeInteger, alias: Category
, Coded Values:
[0: Unknown]
, [1: Primary]
, [2: Overview]
, ...6 more...
)
-
Tag
(
type: esriFieldTypeString, alias: Tag, length: 100
)
-
GroupName
(
type: esriFieldTypeString, alias: GroupName, length: 100
)
-
ProductName
(
type: esriFieldTypeString, alias: ProductName, length: 100
)
-
CenterX
(
type: esriFieldTypeDouble, alias: CenterX
)
-
CenterY
(
type: esriFieldTypeDouble, alias: CenterY
)
-
ZOrder
(
type: esriFieldTypeInteger, alias: ZOrder
)
-
Shape_Length
(
type: esriFieldTypeDouble, alias: Shape_Length
)
-
Shape_Area
(
type: esriFieldTypeDouble, alias: Shape_Area
)
Default Mosaic Method: Northwest
Allowed Mosaic Methods: NorthWest,Center,LockRaster,ByAttribute,Nadir,Viewpoint,Seamline,None
SortField:
SortValue: null
Mosaic Operator: First
Default Compression Quality: 75
Default Resampling Method: Bilinear
Max Record Count: 1000
Max Image Height: 4100
Max Image Width: 15000
Max Download Image Count: 20
Max Mosaic Image Count: 20
Allow Raster Function: true
Allow Copy: null
Allow Analysis: null
Allow Compute TiePoints: false
Supports Statistics: true
Supports Advanced Queries: true
Use StandardizedQueries: true
Raster Type Infos:
Name: Raster Dataset
Description: Supports all ArcGIS Raster Datasets
Help:
Has Raster Attribute Table: false
Edit Fields Info: null
Ownership Based AccessControl For Rasters: null
Child Resources:
Info
Histograms
Key Properties
Legend
Raster Function Infos
Supported Operations:
Export Image
Query
Identify
Compute Histograms
Compute Statistics Histograms
Get Samples
Compute Class Statistics
Query Boundary
Compute Pixel Location
Compute Angles
Validate
Project