View In:
ArcGIS JavaScript
ArcGIS Online Map Viewer
ArcGIS Earth
ArcMap
View Footprint In:
ArcGIS Online Map Viewer
Service Description: DSM (Digital Surface Model) from QL1 LiDAR flown in April 2020.
Name: DSM2020/LiDAR2020_DSM
Description: DSM (Digital Surface Model) from QL1 LiDAR flown in April 2020.
Single Fused Map Cache: false
Extent:
XMin: 32892.495378952655
YMin: 465494.08120899025
XMax: 167892.49537895242
YMax: 631994.08120899
Spatial Reference: PROJCS["NAD_1983_2011_WISCRS_Brown_ftUS",GEOGCS["GCS_NAD83_2011",DATUM["D_NAD83_National_Spatial_Reference_System_2011",SPHEROID["GRS_1980",6378137.0,298.257222101]],PRIMEM["Greenwich",0.0],UNIT["Degree",0.0174532925199433]],PROJECTION["Transverse_Mercator"],PARAMETER["false_easting",103674.333],PARAMETER["false_northing",15091.833],PARAMETER["central_meridian",-88.0],PARAMETER["scale_factor",1.00002],PARAMETER["latitude_of_origin",43.0],UNIT["Foot_US",0.3048006096012192]],VERTCS["NAVD88 height (ftUS) - Geoid18 (ftUS)",VDATUM["North American Vertical Datum 1988"],PARAMETER["Vertical_Shift",0.0],PARAMETER["Direction",1.0],UNIT["US survey foot",0.3048006096012192]]
Initial Extent:
XMin: 32892.495378952655
YMin: 465494.08120899025
XMax: 167892.49537895242
YMax: 631994.08120899
Spatial Reference: PROJCS["NAD_1983_2011_WISCRS_Brown_ftUS",GEOGCS["GCS_NAD83_2011",DATUM["D_NAD83_National_Spatial_Reference_System_2011",SPHEROID["GRS_1980",6378137.0,298.257222101]],PRIMEM["Greenwich",0.0],UNIT["Degree",0.0174532925199433]],PROJECTION["Transverse_Mercator"],PARAMETER["false_easting",103674.333],PARAMETER["false_northing",15091.833],PARAMETER["central_meridian",-88.0],PARAMETER["scale_factor",1.00002],PARAMETER["latitude_of_origin",43.0],UNIT["Foot_US",0.3048006096012192]],VERTCS["NAVD88 height (ftUS) - Geoid18 (ftUS)",VDATUM["North American Vertical Datum 1988"],PARAMETER["Vertical_Shift",0.0],PARAMETER["Direction",1.0],UNIT["US survey foot",0.3048006096012192]]
Full Extent:
XMin: 32892.495378952655
YMin: 465494.08120899025
XMax: 167892.49537895242
YMax: 631994.08120899
Spatial Reference: PROJCS["NAD_1983_2011_WISCRS_Brown_ftUS",GEOGCS["GCS_NAD83_2011",DATUM["D_NAD83_National_Spatial_Reference_System_2011",SPHEROID["GRS_1980",6378137.0,298.257222101]],PRIMEM["Greenwich",0.0],UNIT["Degree",0.0174532925199433]],PROJECTION["Transverse_Mercator"],PARAMETER["false_easting",103674.333],PARAMETER["false_northing",15091.833],PARAMETER["central_meridian",-88.0],PARAMETER["scale_factor",1.00002],PARAMETER["latitude_of_origin",43.0],UNIT["Foot_US",0.3048006096012192]],VERTCS["NAVD88 height (ftUS) - Geoid18 (ftUS)",VDATUM["North American Vertical Datum 1988"],PARAMETER["Vertical_Shift",0.0],PARAMETER["Direction",1.0],UNIT["US survey foot",0.3048006096012192]]
Pixel Size X: 0.9999999999999982
Pixel Size Y: 0.9999999999999982
Band Count: 1
Pixel Type: F32
RasterFunction Infos: {"rasterFunctionInfos": [{
"name": "None",
"description": "",
"help": ""
}]}
Mensuration Capabilities: None
Has Histograms: true
Has Colormap: false
Has Multi Dimensions : false
Rendering Rule:
Min Scale: 0
Max Scale: 0
Copyright Text: Brown County WI
Service Data Type: esriImageServiceDataTypeGeneric
Min Values: 520.25341796875
Max Values: 1040.5155029296875
Mean Values: 749.7654697826531
Standard Deviation Values: 107.35943689474558
Object ID Field: OBJECTID
Fields:
-
OBJECTID
(
type: esriFieldTypeOID, alias: OBJECTID
)
-
Shape
(
type: esriFieldTypeGeometry, alias: Shape
)
-
Name
(
type: esriFieldTypeString, alias: Name, length: 200
)
-
MinPS
(
type: esriFieldTypeDouble, alias: MinPS
)
-
MaxPS
(
type: esriFieldTypeDouble, alias: MaxPS
)
-
LowPS
(
type: esriFieldTypeDouble, alias: LowPS
)
-
HighPS
(
type: esriFieldTypeDouble, alias: HighPS
)
-
Category
(
type: esriFieldTypeInteger, alias: Category
, Coded Values:
[0: Unknown]
, [1: Primary]
, [2: Overview]
, ...6 more...
)
-
Tag
(
type: esriFieldTypeString, alias: Tag, length: 100
)
-
GroupName
(
type: esriFieldTypeString, alias: GroupName, length: 100
)
-
ProductName
(
type: esriFieldTypeString, alias: ProductName, length: 100
)
-
CenterX
(
type: esriFieldTypeDouble, alias: CenterX
)
-
CenterY
(
type: esriFieldTypeDouble, alias: CenterY
)
-
ZOrder
(
type: esriFieldTypeInteger, alias: ZOrder
)
-
Shape_Length
(
type: esriFieldTypeDouble, alias: Shape_Length
)
-
Shape_Area
(
type: esriFieldTypeDouble, alias: Shape_Area
)
Default Mosaic Method: Northwest
Allowed Mosaic Methods: NorthWest,Center,LockRaster,ByAttribute,Nadir,Viewpoint,Seamline,None
SortField:
SortValue: null
Mosaic Operator: First
Default Compression Quality: 75
Default Resampling Method: Bilinear
Max Record Count: 1000
Max Image Height: 4100
Max Image Width: 15000
Max Download Image Count: 20
Max Mosaic Image Count: 20
Allow Raster Function: true
Allow Copy: null
Allow Analysis: null
Allow Compute TiePoints: false
Supports Statistics: true
Supports Advanced Queries: true
Use StandardizedQueries: true
Raster Type Infos:
Name: Raster Dataset
Description: Supports all ArcGIS Raster Datasets
Help:
Has Raster Attribute Table: false
Edit Fields Info: null
Ownership Based AccessControl For Rasters: null
Child Resources:
Info
Histograms
Key Properties
Legend
Raster Function Infos
Supported Operations:
Export Image
Query
Identify
Compute Histograms
Compute Statistics Histograms
Get Samples
Compute Class Statistics
Query Boundary
Compute Pixel Location
Compute Angles
Validate
Project