View In:
ArcGIS JavaScript
ArcGIS Online Map Viewer
ArcGIS Earth
ArcMap
View Footprint In:
ArcGIS Online Map Viewer
Service Description: LiDAR (2010) DEM merged with Fox River bathymetric data (pre-dredge, from about 2010). Fox River bathymetric data from the DePere dam to the mouth of the Fox River.
Name: bathydem2010
Description: LiDAR (2010) DEM merged with Fox River bathymetric data (pre-dredge, from about 2010). Fox River bathymetric data from the DePere dam to the mouth of the Fox River.
Single Fused Map Cache: false
Extent:
XMin: 37083.500118255615
YMin: 467242.81296367943
XMax: 165508.50011825562
YMax: 628312.8129636794
Spatial Reference: PROJCS["NAD_1983_HARN_Transverse_Mercator",GEOGCS["GCS_North_American_1983_HARN",DATUM["D_North_American_1983_HARN",SPHEROID["GRS_1980",6378137.0,298.257222101]],PRIMEM["Greenwich",0.0],UNIT["Degree",0.0174532925199433]],PROJECTION["Transverse_Mercator"],PARAMETER["False_Easting",103674.333],PARAMETER["False_Northing",15091.833],PARAMETER["Central_Meridian",-88.0],PARAMETER["Scale_Factor",1.00002],PARAMETER["Latitude_Of_Origin",43.0],UNIT["Foot_US",0.3048006096012192]],VERTCS["NAVD_1988",VDATUM["North_American_Vertical_Datum_1988"],PARAMETER["Vertical_Shift",0.0],PARAMETER["Direction",1.0],UNIT["Foot_US",0.3048006096012192]]
Initial Extent:
XMin: 37083.500118255615
YMin: 467242.81296367943
XMax: 165508.50011825562
YMax: 628312.8129636794
Spatial Reference: PROJCS["NAD_1983_HARN_Transverse_Mercator",GEOGCS["GCS_North_American_1983_HARN",DATUM["D_North_American_1983_HARN",SPHEROID["GRS_1980",6378137.0,298.257222101]],PRIMEM["Greenwich",0.0],UNIT["Degree",0.0174532925199433]],PROJECTION["Transverse_Mercator"],PARAMETER["False_Easting",103674.333],PARAMETER["False_Northing",15091.833],PARAMETER["Central_Meridian",-88.0],PARAMETER["Scale_Factor",1.00002],PARAMETER["Latitude_Of_Origin",43.0],UNIT["Foot_US",0.3048006096012192]],VERTCS["NAVD_1988",VDATUM["North_American_Vertical_Datum_1988"],PARAMETER["Vertical_Shift",0.0],PARAMETER["Direction",1.0],UNIT["Foot_US",0.3048006096012192]]
Full Extent:
XMin: 37083.500118255615
YMin: 467242.81296367943
XMax: 165508.50011825562
YMax: 628312.8129636794
Spatial Reference: PROJCS["NAD_1983_HARN_Transverse_Mercator",GEOGCS["GCS_North_American_1983_HARN",DATUM["D_North_American_1983_HARN",SPHEROID["GRS_1980",6378137.0,298.257222101]],PRIMEM["Greenwich",0.0],UNIT["Degree",0.0174532925199433]],PROJECTION["Transverse_Mercator"],PARAMETER["False_Easting",103674.333],PARAMETER["False_Northing",15091.833],PARAMETER["Central_Meridian",-88.0],PARAMETER["Scale_Factor",1.00002],PARAMETER["Latitude_Of_Origin",43.0],UNIT["Foot_US",0.3048006096012192]],VERTCS["NAVD_1988",VDATUM["North_American_Vertical_Datum_1988"],PARAMETER["Vertical_Shift",0.0],PARAMETER["Direction",1.0],UNIT["Foot_US",0.3048006096012192]]
Pixel Size X: 5.0
Pixel Size Y: 5.0
Band Count: 1
Pixel Type: F32
RasterFunction Infos: {"rasterFunctionInfos": [{
"name": "None",
"description": "",
"help": ""
}]}
Mensuration Capabilities: Basic
Has Histograms: false
Has Colormap: false
Has Multi Dimensions : false
Rendering Rule:
Min Scale: 0
Max Scale: 0
Copyright Text:
Service Data Type: esriImageServiceDataTypeGeneric
Min Values: 535.2997436523438
Max Values: 1020.0076293945312
Mean Values: 742.4180909827163
Standard Deviation Values: 109.73243857219948
Object ID Field:
Fields:
None
Default Mosaic Method: Center
Allowed Mosaic Methods:
SortField:
SortValue: null
Mosaic Operator: First
Default Compression Quality: 75
Default Resampling Method: Bilinear
Max Record Count: null
Max Image Height: 4100
Max Image Width: 15000
Max Download Image Count: null
Max Mosaic Image Count: null
Allow Raster Function: true
Allow Copy: null
Allow Analysis: null
Allow Compute TiePoints: false
Supports Statistics: false
Supports Advanced Queries: false
Use StandardizedQueries: true
Raster Type Infos:
Name: Raster Dataset
Description: Supports all ArcGIS Raster Datasets
Help:
Has Raster Attribute Table: false
Edit Fields Info: null
Ownership Based AccessControl For Rasters: null
Child Resources:
Info
Key Properties
Legend
Raster Function Infos
Supported Operations:
Export Image
Identify
Measure
Compute Histograms
Compute Statistics Histograms
Get Samples
Compute Class Statistics
Query Boundary
Compute Pixel Location
Compute Angles
Validate
Project