View In:
ArcGIS JavaScript
ArcGIS Online Map Viewer
ArcGIS Earth
ArcMap
View Footprint In:
ArcGIS Online Map Viewer
Service Description: 1900 plat map of Brown County. Georeferenced using GIS tools. W.W. Hixson & Co. Map of Brown County, Wisconsin. Rockford, Ill.: W.W. Hixson, 1900. Map. Retrieved from the Library of Congress,
.
Name: Archives/BrownCo_1900_PlatMap
Description: 1900 plat map of Brown County. Georeferenced using GIS tools. W.W. Hixson & Co. Map of Brown County, Wisconsin. Rockford, Ill.: W.W. Hixson, 1900. Map. Retrieved from the Library of Congress,
.
Single Fused Map Cache: false
Extent:
XMin: 34420.96734414407
YMin: 462276.06420448667
XMax: 169230.58690424217
YMax: 631094.9215881153
Spatial Reference: 103404
(8213)
Initial Extent:
XMin: 34420.96734414407
YMin: 462276.06420448667
XMax: 169230.58690424217
YMax: 631094.9215881153
Spatial Reference: 103404
(8213)
Full Extent:
XMin: 34420.96734414407
YMin: 462276.06420448667
XMax: 169230.58690424217
YMax: 631094.9215881153
Spatial Reference: 103404
(8213)
Pixel Size X: 11.942737381298556
Pixel Size Y: 11.96448315971854
Band Count: 3
Pixel Type: U8
RasterFunction Infos: {"rasterFunctionInfos": [{
"name": "None",
"description": "",
"help": ""
}]}
Mensuration Capabilities: Basic
Has Histograms: true
Has Colormap: false
Has Multi Dimensions : false
Rendering Rule:
Min Scale: 0
Max Scale: 0
Copyright Text: W.W. Hixson, 1900. Retrieved from the Library of Congress, <www.loc.gov/item/2012593193/>.
Service Data Type: esriImageServiceDataTypeRGB
Min Values: 0, 0, 0
Max Values: 255, 255, 253
Mean Values: 189.73212053618, 168.5783532094, 136.10541752407
Standard Deviation Values: 51.284455810699, 46.242896695629, 37.805942238849
Object ID Field:
Fields:
None
Default Mosaic Method: Center
Allowed Mosaic Methods:
SortField:
SortValue: null
Mosaic Operator: First
Default Compression Quality: 75
Default Resampling Method: Bilinear
Max Record Count: null
Max Image Height: 4100
Max Image Width: 15000
Max Download Image Count: null
Max Mosaic Image Count: null
Allow Raster Function: true
Allow Copy: null
Allow Analysis: null
Allow Compute TiePoints: false
Supports Statistics: false
Supports Advanced Queries: false
Use StandardizedQueries: true
Raster Type Infos:
Name: Raster Dataset
Description: Supports all ArcGIS Raster Datasets
Help:
Has Raster Attribute Table: false
Edit Fields Info: null
Ownership Based AccessControl For Rasters: null
Child Resources:
Info
Histograms
Key Properties
Legend
Raster Function Infos
Supported Operations:
Export Image
Identify
Measure
Compute Histograms
Compute Statistics Histograms
Get Samples
Compute Class Statistics
Query Boundary
Compute Pixel Location
Compute Angles
Validate
Project