View In:
ArcGIS JavaScript
ArcGIS Online Map Viewer
ArcGIS Earth
ArcMap
View Footprint In:
ArcGIS Online Map Viewer
Service Description: DSM (Digital Surface Model) Hillshade Effect. Source is the Spring 2020 LiDAR (QL1)
Name: DSM2020/DSM2020_Hillshade
Description: DSM (Digital Surface Model) Hillshade Effect. Source is the Spring 2020 LiDAR (QL1)
Single Fused Map Cache: false
Extent:
XMin: 32892.495378951506
YMin: 465494.08120898344
XMax: 167892.49537895128
YMax: 631994.0812089832
Spatial Reference: PROJCS["NAD_1983_2011_WISCRS_Brown_ftUS",GEOGCS["GCS_NAD83_2011",DATUM["D_NAD83_National_Spatial_Reference_System_2011",SPHEROID["GRS_1980",6378137.0,298.257222101]],PRIMEM["Greenwich",0.0],UNIT["Degree",0.0174532925199433]],PROJECTION["Transverse_Mercator"],PARAMETER["false_easting",103674.333],PARAMETER["false_northing",15091.833],PARAMETER["central_meridian",-88.0],PARAMETER["scale_factor",1.00002],PARAMETER["latitude_of_origin",43.0],UNIT["Foot_US",0.3048006096012192]],VERTCS["NAVD88 height (ftUS) - Geoid18 (ftUS)",VDATUM["North American Vertical Datum 1988"],PARAMETER["Vertical_Shift",0.0],PARAMETER["Direction",1.0],UNIT["US survey foot",0.3048006096012192]]
Initial Extent:
XMin: 32892.495378951506
YMin: 465494.08120898344
XMax: 167892.49537895128
YMax: 631994.0812089832
Spatial Reference: PROJCS["NAD_1983_2011_WISCRS_Brown_ftUS",GEOGCS["GCS_NAD83_2011",DATUM["D_NAD83_National_Spatial_Reference_System_2011",SPHEROID["GRS_1980",6378137.0,298.257222101]],PRIMEM["Greenwich",0.0],UNIT["Degree",0.0174532925199433]],PROJECTION["Transverse_Mercator"],PARAMETER["false_easting",103674.333],PARAMETER["false_northing",15091.833],PARAMETER["central_meridian",-88.0],PARAMETER["scale_factor",1.00002],PARAMETER["latitude_of_origin",43.0],UNIT["Foot_US",0.3048006096012192]],VERTCS["NAVD88 height (ftUS) - Geoid18 (ftUS)",VDATUM["North American Vertical Datum 1988"],PARAMETER["Vertical_Shift",0.0],PARAMETER["Direction",1.0],UNIT["US survey foot",0.3048006096012192]]
Full Extent:
XMin: 32892.495378951506
YMin: 465494.08120898344
XMax: 167892.49537895128
YMax: 631994.0812089832
Spatial Reference: PROJCS["NAD_1983_2011_WISCRS_Brown_ftUS",GEOGCS["GCS_NAD83_2011",DATUM["D_NAD83_National_Spatial_Reference_System_2011",SPHEROID["GRS_1980",6378137.0,298.257222101]],PRIMEM["Greenwich",0.0],UNIT["Degree",0.0174532925199433]],PROJECTION["Transverse_Mercator"],PARAMETER["false_easting",103674.333],PARAMETER["false_northing",15091.833],PARAMETER["central_meridian",-88.0],PARAMETER["scale_factor",1.00002],PARAMETER["latitude_of_origin",43.0],UNIT["Foot_US",0.3048006096012192]],VERTCS["NAVD88 height (ftUS) - Geoid18 (ftUS)",VDATUM["North American Vertical Datum 1988"],PARAMETER["Vertical_Shift",0.0],PARAMETER["Direction",1.0],UNIT["US survey foot",0.3048006096012192]]
Pixel Size X: 0.9999999999999982
Pixel Size Y: 0.9999999999999986
Band Count: 1
Pixel Type: U8
RasterFunction Infos: {"rasterFunctionInfos": [{
"name": "None",
"description": "",
"help": ""
}]}
Mensuration Capabilities: Basic
Has Histograms: true
Has Colormap: false
Has Multi Dimensions : false
Rendering Rule:
Min Scale: 0
Max Scale: 0
Copyright Text: Brown County, USGS, FEMA
Service Data Type: esriImageServiceDataTypeGeneric
Min Values: 0
Max Values: 254
Mean Values: 176.62099853440137
Standard Deviation Values: 23.66096074278448
Object ID Field:
Fields:
None
Default Mosaic Method: Center
Allowed Mosaic Methods:
SortField:
SortValue: null
Mosaic Operator: First
Default Compression Quality: 75
Default Resampling Method: Bilinear
Max Record Count: null
Max Image Height: 4100
Max Image Width: 15000
Max Download Image Count: null
Max Mosaic Image Count: null
Allow Raster Function: true
Allow Copy: null
Allow Analysis: null
Allow Compute TiePoints: false
Supports Statistics: false
Supports Advanced Queries: false
Use StandardizedQueries: true
Raster Type Infos:
Name: Raster Dataset
Description: Supports all ArcGIS Raster Datasets
Help:
Has Raster Attribute Table: true
Edit Fields Info: null
Ownership Based AccessControl For Rasters: null
Child Resources:
Info
Raster Attribute Table
Histograms
Key Properties
Legend
Raster Function Infos
Supported Operations:
Export Image
Identify
Measure
Compute Histograms
Compute Statistics Histograms
Get Samples
Compute Class Statistics
Query Boundary
Compute Pixel Location
Compute Angles
Validate
Project