View In:
ArcGIS JavaScript
ArcGIS Online Map Viewer
ArcGIS Earth
ArcMap
View Footprint In:
ArcGIS Online Map Viewer
Service Description: OneMap L2 Land Cover derived from 2020 4 Band (R, G, B, NIR) NAIP. The majority of the images were acquired during July and August and supplemented with lidar collections for Brown County (2020). This is a preliminary dataset delivered in May 2024.
Name: Preliminary/OneMap_L2_LandCover
Description: OneMap L2 Land Cover derived from 2020 4 Band (R, G, B, NIR) NAIP. The majority of the images were acquired during July and August and supplemented with lidar collections for Brown County (2020). This is a preliminary dataset delivered in May 2024.
Single Fused Map Cache: false
Extent:
XMin: 598193
YMin: 2385641
XMax: 650123
YMax: 2431238
Spatial Reference: 5070
(5070)
Initial Extent:
XMin: 598193
YMin: 2385641
XMax: 650123
YMax: 2431238
Spatial Reference: 5070
(5070)
Full Extent:
XMin: 598193
YMin: 2385641
XMax: 650123
YMax: 2431238
Spatial Reference: 5070
(5070)
Pixel Size X: 1.0
Pixel Size Y: 1.0
Band Count: 1
Pixel Type: U8
RasterFunction Infos: {"rasterFunctionInfos": [{
"name": "None",
"description": "",
"help": ""
}]}
Mensuration Capabilities: Basic
Has Histograms: true
Has Colormap: true
Has Multi Dimensions : false
Rendering Rule:
Min Scale: 0
Max Scale: 0
Copyright Text: NOAA, NV5, WI Coastal Management, Brown County
Service Data Type: esriImageServiceDataTypeThematic
Min Values: 2
Max Values: 22
Mean Values: 8.309932335395
Standard Deviation Values: 4.8774284622219
Object ID Field:
Fields:
None
Default Mosaic Method: Center
Allowed Mosaic Methods:
SortField:
SortValue: null
Mosaic Operator: First
Default Compression Quality: 75
Default Resampling Method: Nearest
Max Record Count: null
Max Image Height: 4100
Max Image Width: 15000
Max Download Image Count: null
Max Mosaic Image Count: null
Allow Raster Function: true
Allow Copy: null
Allow Analysis: null
Allow Compute TiePoints: false
Supports Statistics: false
Supports Advanced Queries: false
Use StandardizedQueries: true
Raster Type Infos:
Name: Raster Dataset
Description: Supports all ArcGIS Raster Datasets
Help:
Has Raster Attribute Table: false
Edit Fields Info: null
Ownership Based AccessControl For Rasters: null
Child Resources:
Info
Histograms
Key Properties
Color Map
Legend
Raster Function Infos
Supported Operations:
Export Image
Identify
Measure
Compute Histograms
Compute Statistics Histograms
Get Samples
Compute Class Statistics
Query Boundary
Compute Pixel Location
Compute Angles
Validate
Project