View In:
ArcGIS JavaScript
ArcGIS Online Map Viewer
ArcGIS Earth
ArcMap
View Footprint In:
ArcGIS Online Map Viewer
Service Description: USGS topographic quadrangle maps (1:24,000)
Name: USGS_Quads
Description: USGS topographic quadrangle maps (1:24,000)
Single Fused Map Cache: false
Extent:
XMin: 3622.7505245980997
YMin: 419283.5087145037
XMax: 171401.87352941488
YMax: 655673.5378499909
Spatial Reference: PROJCS["Brown_County_WI",GEOGCS["GCS_North_American_1983_HARN",DATUM["D_North_American_1983_HARN",SPHEROID["GRS_1980",6378137.0,298.257222101]],PRIMEM["Greenwich",0.0],UNIT["Degree",0.0174532925199433]],PROJECTION["Transverse_Mercator"],PARAMETER["false_easting",103674.3333],PARAMETER["false_northing",15091.8333],PARAMETER["central_meridian",-88.0],PARAMETER["scale_factor",1.00002],PARAMETER["latitude_of_origin",43.0],UNIT["Foot_US",0.3048006096012192]]
Initial Extent:
XMin: 3622.7505245980997
YMin: 419283.5087145037
XMax: 171401.87352941488
YMax: 655673.5378499909
Spatial Reference: PROJCS["Brown_County_WI",GEOGCS["GCS_North_American_1983_HARN",DATUM["D_North_American_1983_HARN",SPHEROID["GRS_1980",6378137.0,298.257222101]],PRIMEM["Greenwich",0.0],UNIT["Degree",0.0174532925199433]],PROJECTION["Transverse_Mercator"],PARAMETER["false_easting",103674.3333],PARAMETER["false_northing",15091.8333],PARAMETER["central_meridian",-88.0],PARAMETER["scale_factor",1.00002],PARAMETER["latitude_of_origin",43.0],UNIT["Foot_US",0.3048006096012192]]
Full Extent:
XMin: 3622.7505245980997
YMin: 419283.5087145037
XMax: 171401.87352941488
YMax: 655673.5378499909
Spatial Reference: PROJCS["Brown_County_WI",GEOGCS["GCS_North_American_1983_HARN",DATUM["D_North_American_1983_HARN",SPHEROID["GRS_1980",6378137.0,298.257222101]],PRIMEM["Greenwich",0.0],UNIT["Degree",0.0174532925199433]],PROJECTION["Transverse_Mercator"],PARAMETER["false_easting",103674.3333],PARAMETER["false_northing",15091.8333],PARAMETER["central_meridian",-88.0],PARAMETER["scale_factor",1.00002],PARAMETER["latitude_of_origin",43.0],UNIT["Foot_US",0.3048006096012192]]
Pixel Size X: 8.2923502696
Pixel Size Y: 8.292350269599998
Band Count: 3
Pixel Type: U8
RasterFunction Infos: {"rasterFunctionInfos": [{
"name": "None",
"description": "",
"help": ""
}]}
Mensuration Capabilities: Basic
Has Histograms: false
Has Colormap: false
Has Multi Dimensions : false
Rendering Rule:
Min Scale: 0
Max Scale: 0
Copyright Text: USGS
Service Data Type: esriImageServiceDataTypeRGB
Min Values: N/A
Max Values: N/A
Mean Values: N/A
Standard Deviation Values: N/A
Object ID Field:
Fields:
None
Default Mosaic Method: Center
Allowed Mosaic Methods:
SortField:
SortValue: null
Mosaic Operator: First
Default Compression Quality: 75
Default Resampling Method: Bilinear
Max Record Count: null
Max Image Height: 4100
Max Image Width: 15000
Max Download Image Count: null
Max Mosaic Image Count: null
Allow Raster Function: true
Allow Copy: null
Allow Analysis: null
Allow Compute TiePoints: false
Supports Statistics: false
Supports Advanced Queries: false
Use StandardizedQueries: true
Raster Type Infos:
Name: Raster Dataset
Description: Supports all ArcGIS Raster Datasets
Help:
Has Raster Attribute Table: false
Edit Fields Info: null
Ownership Based AccessControl For Rasters: null
Child Resources:
Info
Key Properties
Legend
Raster Function Infos
Supported Operations:
Export Image
Identify
Measure
Compute Histograms
Compute Statistics Histograms
Get Samples
Compute Class Statistics
Query Boundary
Compute Pixel Location
Compute Angles
Validate
Project